BEGIN:VCALENDAR
VERSION:2.0
PRODID:spatie/icalendar-generator
DESCRIPTION:Events from Official Ferrari Club of America Las Vegas Chapter
X-WR-CALDESC:Events from Official Ferrari Club of America Las Vegas Chapter
REFRESH-INTERVAL;VALUE=DURATION:PT1440M
X-PUBLISHED-TTL:PT1440M
BEGIN:VTIMEZONE
TZID:America/Los_Angeles
BEGIN:DAYLIGHT
DTSTART:20250309T020000Z
TZOFFSETFROM:-0800
TZOFFSETTO:-0700
END:DAYLIGHT
BEGIN:STANDARD
DTSTART:20251102T020000Z
TZOFFSETFROM:-0700
TZOFFSETTO:-0800
END:STANDARD
END:VTIMEZONE
BEGIN:VTIMEZONE
TZID:UTC
BEGIN:STANDARD
DTSTART:20250726T104822Z
TZOFFSETFROM:+0000
TZOFFSETTO:+0000
END:STANDARD
END:VTIMEZONE
BEGIN:VEVENT
UID:125-83
DTSTAMP:20260422T104822Z
SUMMARY:Pebble Beach Concours d’Elegance 2025
LOCATION:Pebble Beach 1700 17 Mile Dr  Pebble Beach CA 93953
ORGANIZER;CN=tunevision:MAILTO:john@tunevision.tv
DTSTART;TZID=America/Los_Angeles;VALUE=DATE:20250817
DTEND;TZID=America/Los_Angeles;VALUE=DATE:20250818
X-ALT-DESC;FMTTYPE=TEXT/HTML:Watch style icons\, innovative prototypes\, an
 d racing greats compete for the top prize in the collector car world\, whi
 le enjoying the camaraderie of auto enthusiasts from around the globe.
CATEGORIES:Unnofficial Events
URL;VALUE=URI:https://ferrariclubvegas.com/mc-events/pebble-beach-concours-
 delegance-2025/?mc_id=125
END:VEVENT
END:VCALENDAR